BEGIN:VCALENDAR
VERSION:2.0
PRODID:icalendar-ruby
CALSCALE:GREGORIAN
X-WR-TIMEZONE:Europe/Helsinki
BEGIN:VTIMEZONE
TZID:Europe/Helsinki
BEGIN:DAYLIGHT
DTSTART:20260329T040000
TZOFFSETFROM:+0200
TZOFFSETTO:+0300
RRULE:FREQ=YEARLY;BYDAY=-1SU;BYMONTH=3
TZNAME:EEST
END:DAYLIGHT
BEGIN:STANDARD
DTSTART:20261025T030000
TZOFFSETFROM:+0300
TZOFFSETTO:+0200
RRULE:FREQ=YEARLY;BYDAY=-1SU;BYMONTH=10
TZNAME:EET
END:STANDARD
END:VTIMEZONE
BEGIN:VEVENT
DTSTAMP:20260420T120631
UID:ebt.myclub.fi-9185674
DTSTART;TZID=Europe/Helsinki:20230501T000000
DTEND;TZID=Europe/Helsinki:20230501T000000
DESCRIPTION:Tervetuloa mukaan joukkueeseen!  \n\nhttps://ebt.myclub.fi/flow
 /events/9185674
LOCATION:Muu\, Espoo\, Suomi
SEQUENCE:0
SUMMARY:Pojat U10 (2016): Liity joukkueeseen: Pojat U10 (2016)
URL;VALUE=URI:https://ebt.myclub.fi/flow/events/9185674
END:VEVENT
END:VCALENDAR
