BEGIN:VCALENDAR
VERSION:2.0
PRODID:icalendar-ruby
CALSCALE:GREGORIAN
X-WR-TIMEZONE:Europe/Helsinki
BEGIN:VTIMEZONE
TZID:Europe/Helsinki
BEGIN:DAYLIGHT
DTSTART:20260329T040000
TZOFFSETFROM:+0200
TZOFFSETTO:+0300
RRULE:FREQ=YEARLY;BYDAY=-1SU;BYMONTH=3
TZNAME:EEST
END:DAYLIGHT
BEGIN:STANDARD
DTSTART:20261025T030000
TZOFFSETFROM:+0300
TZOFFSETTO:+0200
RRULE:FREQ=YEARLY;BYDAY=-1SU;BYMONTH=10
TZNAME:EET
END:STANDARD
END:VTIMEZONE
BEGIN:VEVENT
DTSTAMP:20260420T120259
UID:ebt.myclub.fi-9050491
DTSTART;TZID=Europe/Helsinki:20250707T140000
DTEND;TZID=Europe/Helsinki:20250707T140000
DESCRIPTION:Tervetuloa mukaan joukkueeseen! \n\nhttps://ebt.myclub.fi/flow/
 events/9050491
LOCATION:Muu\, Espoo\, Suomi
SEQUENCE:0
SUMMARY:Tytöt U7-8 (2018-2019): Liity joukkueeseen: Tytöt U7-8 (2018-2019
 )
URL;VALUE=URI:https://ebt.myclub.fi/flow/events/9050491
END:VEVENT
END:VCALENDAR
